BEGIN:VCALENDAR
VERSION:2.0
PRODID:-// - ECPv6.15.13//NONSGML v1.0//EN
CALSCALE:GREGORIAN
METHOD:PUBLISH
X-ORIGINAL-URL:https://gorgenewscenter.com
X-WR-CALDESC:Events for 
REFRESH-INTERVAL;VALUE=DURATION:PT1H
X-Robots-Tag:noindex
X-PUBLISHED-TTL:PT1H
BEGIN:VTIMEZONE
TZID:America/Los_Angeles
BEGIN:DAYLIGHT
TZOFFSETFROM:-0800
TZOFFSETTO:-0700
TZNAME:PDT
DTSTART:20240310T100000
END:DAYLIGHT
BEGIN:STANDARD
TZOFFSETFROM:-0700
TZOFFSETTO:-0800
TZNAME:PST
DTSTART:20241103T090000
END:STANDARD
BEGIN:DAYLIGHT
TZOFFSETFROM:-0800
TZOFFSETTO:-0700
TZNAME:PDT
DTSTART:20250309T100000
END:DAYLIGHT
BEGIN:STANDARD
TZOFFSETFROM:-0700
TZOFFSETTO:-0800
TZNAME:PST
DTSTART:20251102T090000
END:STANDARD
BEGIN:DAYLIGHT
TZOFFSETFROM:-0800
TZOFFSETTO:-0700
TZNAME:PDT
DTSTART:20260308T100000
END:DAYLIGHT
BEGIN:STANDARD
TZOFFSETFROM:-0700
TZOFFSETTO:-0800
TZNAME:PST
DTSTART:20261101T090000
END:STANDARD
BEGIN:DAYLIGHT
TZOFFSETFROM:-0800
TZOFFSETTO:-0700
TZNAME:PDT
DTSTART:20270314T100000
END:DAYLIGHT
BEGIN:STANDARD
TZOFFSETFROM:-0700
TZOFFSETTO:-0800
TZNAME:PST
DTSTART:20271107T090000
END:STANDARD
END:VTIMEZONE
BEGIN:VEVENT
DTSTART;TZID=America/Los_Angeles:20260228T200000
DTEND;TZID=America/Los_Angeles:20260228T230000
DTSTAMP:20260421T114815
CREATED:20260225T123359Z
LAST-MODIFIED:20260225T123359Z
UID:10006152-1772308800-1772319600@gorgenewscenter.com
SUMMARY:The Principal's Office Dance Club
DESCRIPTION:Who’s ready to dance those winter blues away? \nThe grand opening of The Principal’s Office is this Saturday night from 8 to 11\, ages 14 and up! \nEntry is just $5\, with light appetizers and mocktails available for purchase as well.
URL:https://gorgenewscenter.com/event/the-principals-office-dance-club/
LOCATION:Wasco School Event Center\, 903 Barnett St\, Wasco\, Wasco\, OR\, 97065
END:VEVENT
BEGIN:VEVENT
DTSTART;TZID=America/Los_Angeles:20251231T190000
DTEND;TZID=America/Los_Angeles:20251231T233000
DTSTAMP:20260421T114815
CREATED:20251229T182804Z
LAST-MODIFIED:20251229T182844Z
UID:10005983-1767207600-1767223800@gorgenewscenter.com
SUMMARY:Happy New Year Party at the Wasco School Events Center
DESCRIPTION:
URL:https://gorgenewscenter.com/event/happy-new-year-party-at-the-wasco-school-events-center/
LOCATION:Wasco School Event Center\, 903 Barnett St\, Wasco\, Wasco\, OR\, 97065
END:VEVENT
BEGIN:VEVENT
DTSTART;TZID=America/Los_Angeles:20251206T100000
DTEND;TZID=America/Los_Angeles:20251206T140000
DTSTAMP:20260421T114815
CREATED:20251205T145043Z
LAST-MODIFIED:20251205T145043Z
UID:10005964-1765015200-1765029600@gorgenewscenter.com
SUMMARY:Wasco Holiday Bazaar
DESCRIPTION:
URL:https://gorgenewscenter.com/event/wasco-holiday-bazaar/
LOCATION:Wasco School Event Center\, 903 Barnett St\, Wasco\, Wasco\, OR\, 97065
END:VEVENT
END:VCALENDAR