BEGIN:VCALENDAR
VERSION:2.0
PRODID:-// - ECPv6.15.13//NONSGML v1.0//EN
CALSCALE:GREGORIAN
METHOD:PUBLISH
X-ORIGINAL-URL:https://gorgenewscenter.com
X-WR-CALDESC:Events for 
REFRESH-INTERVAL;VALUE=DURATION:PT1H
X-Robots-Tag:noindex
X-PUBLISHED-TTL:PT1H
BEGIN:VTIMEZONE
TZID:America/Los_Angeles
BEGIN:DAYLIGHT
TZOFFSETFROM:-0800
TZOFFSETTO:-0700
TZNAME:PDT
DTSTART:20240310T100000
END:DAYLIGHT
BEGIN:STANDARD
TZOFFSETFROM:-0700
TZOFFSETTO:-0800
TZNAME:PST
DTSTART:20241103T090000
END:STANDARD
BEGIN:DAYLIGHT
TZOFFSETFROM:-0800
TZOFFSETTO:-0700
TZNAME:PDT
DTSTART:20250309T100000
END:DAYLIGHT
BEGIN:STANDARD
TZOFFSETFROM:-0700
TZOFFSETTO:-0800
TZNAME:PST
DTSTART:20251102T090000
END:STANDARD
BEGIN:DAYLIGHT
TZOFFSETFROM:-0800
TZOFFSETTO:-0700
TZNAME:PDT
DTSTART:20260308T100000
END:DAYLIGHT
BEGIN:STANDARD
TZOFFSETFROM:-0700
TZOFFSETTO:-0800
TZNAME:PST
DTSTART:20261101T090000
END:STANDARD
END:VTIMEZONE
BEGIN:VEVENT
DTSTART;TZID=America/Los_Angeles:20250829T190000
DTEND;TZID=America/Los_Angeles:20250829T213000
DTSTAMP:20260421T114650
CREATED:20250829T125326Z
LAST-MODIFIED:20250829T125326Z
UID:10005918-1756494000-1756503000@gorgenewscenter.com
SUMMARY:The Dalles High School Football Fundraiser for Rowena Fire Victims
DESCRIPTION:This Friday\, August 29th\, The Dalles High School (TDHS) will host its first home football game of the season\, bringing together students\, families\, and community members for an evening of school spirit and support. \nIn place of the traditional gate fee\, TDHS is asking fans for donations to support those affected by the Rowena Fire. The effort is part of a student-led initiative to show solidarity with local families impacted by the recent tragedy. \nThe game will be held at Sid White Field\, with kickoff at 7:00 p.m. Fans are encouraged to wear their crimson and gold to show their Riverhawk pride and help pack the stands in support of both the team and our community.
URL:https://gorgenewscenter.com/event/the-dalles-high-school-football-fundraiser-for-rowena-fire-victims/
LOCATION:Sid White Field – Wahtonka Campus\, 3601 W 10th St\, The Dalles\, OR\, 97058\, United States
END:VEVENT
END:VCALENDAR