BEGIN:VCALENDAR
VERSION:2.0
PRODID:-// - ECPv6.15.13//NONSGML v1.0//EN
CALSCALE:GREGORIAN
METHOD:PUBLISH
X-ORIGINAL-URL:https://gorgenewscenter.com
X-WR-CALDESC:Events for 
REFRESH-INTERVAL;VALUE=DURATION:PT1H
X-Robots-Tag:noindex
X-PUBLISHED-TTL:PT1H
BEGIN:VTIMEZONE
TZID:America/Los_Angeles
BEGIN:DAYLIGHT
TZOFFSETFROM:-0800
TZOFFSETTO:-0700
TZNAME:PDT
DTSTART:20260308T100000
END:DAYLIGHT
BEGIN:STANDARD
TZOFFSETFROM:-0700
TZOFFSETTO:-0800
TZNAME:PST
DTSTART:20261101T090000
END:STANDARD
BEGIN:DAYLIGHT
TZOFFSETFROM:-0800
TZOFFSETTO:-0700
TZNAME:PDT
DTSTART:20270314T100000
END:DAYLIGHT
BEGIN:STANDARD
TZOFFSETFROM:-0700
TZOFFSETTO:-0800
TZNAME:PST
DTSTART:20271107T090000
END:STANDARD
BEGIN:DAYLIGHT
TZOFFSETFROM:-0800
TZOFFSETTO:-0700
TZNAME:PDT
DTSTART:20280312T100000
END:DAYLIGHT
BEGIN:STANDARD
TZOFFSETFROM:-0700
TZOFFSETTO:-0800
TZNAME:PST
DTSTART:20281105T090000
END:STANDARD
END:VTIMEZONE
BEGIN:VEVENT
DTSTART;TZID=America/Los_Angeles:20270610T173000
DTEND;TZID=America/Los_Angeles:20270610T200000
DTSTAMP:20260421T145245
CREATED:20250123T191401Z
LAST-MODIFIED:20250123T191831Z
UID:10005289-1812648600-1812657600@gorgenewscenter.com
SUMMARY:Meals on Wheels Bingo @ The Senior Center
DESCRIPTION:
URL:https://gorgenewscenter.com/event/bingo-the-center-2/2027-06-10/
LOCATION:Mid-Columbia Senior Center\, 1112 W. 9th Street\, The Dalles\, Oregon\, 97058
ATTACH;FMTTYPE=image/png:https://gorgenewscenter.com/wp-content/uploads/2021/12/Bingo.png
END:VEVENT
BEGIN:VEVENT
DTSTART;TZID=America/Los_Angeles:20270611T100000
DTEND;TZID=America/Los_Angeles:20270611T230000
DTSTAMP:20260421T145245
CREATED:20260216T171245Z
LAST-MODIFIED:20260216T171245Z
UID:10006098-1812708000-1812754800@gorgenewscenter.com
SUMMARY:Exploring the Short Story: Irish & American Literature
DESCRIPTION:Ready for a fascinating journey through literature? Join us for “Exploring the Short Story: Irish & American Literature” starting this March!This isn’t your typical book club—it’s an adult education course designed to get your mind thinking in new and wonderful ways. Led by instructor Kerry Cobb\, we will dive into modern short stories from both Ireland and the US. Each month\, we will read two short stories—one from each country under a specific theme—and then gather to review and discuss them in the following class.When: 2nd Friday of each month at 10:00am\, beginning in March 2026 Where: Mid-Columbia Senior Center in the Deschutes RoomThere is no cost to attend\, and all materials will be provided at no charge. All are welcome and no previous experience is needed—just bring your curiosity\, your sense of adventure\, and maybe a friend or two!Please sign up at the Mid-Columbia Senior Center front desk to reserve your spot. We can’t wait to see you there!
URL:https://gorgenewscenter.com/event/exploring-the-short-story-irish-american-literature/2027-06-11/
LOCATION:Mid-Columbia Senior Center\, 1112 W. 9th Street\, The Dalles\, Oregon\, 97058
ATTACH;FMTTYPE=image/jpeg:https://gorgenewscenter.com/wp-content/uploads/2026/02/626874985_1343619371137495_4274545812152122071_n.jpg
END:VEVENT
BEGIN:VEVENT
DTSTART;TZID=America/Los_Angeles:20270617T173000
DTEND;TZID=America/Los_Angeles:20270617T200000
DTSTAMP:20260421T145245
CREATED:20250123T191401Z
LAST-MODIFIED:20250123T191831Z
UID:10005290-1813253400-1813262400@gorgenewscenter.com
SUMMARY:Meals on Wheels Bingo @ The Senior Center
DESCRIPTION:
URL:https://gorgenewscenter.com/event/bingo-the-center-2/2027-06-17/
LOCATION:Mid-Columbia Senior Center\, 1112 W. 9th Street\, The Dalles\, Oregon\, 97058
ATTACH;FMTTYPE=image/png:https://gorgenewscenter.com/wp-content/uploads/2021/12/Bingo.png
END:VEVENT
BEGIN:VEVENT
DTSTART;TZID=America/Los_Angeles:20270624T173000
DTEND;TZID=America/Los_Angeles:20270624T200000
DTSTAMP:20260421T145245
CREATED:20250123T191401Z
LAST-MODIFIED:20250123T191831Z
UID:10005291-1813858200-1813867200@gorgenewscenter.com
SUMMARY:Meals on Wheels Bingo @ The Senior Center
DESCRIPTION:
URL:https://gorgenewscenter.com/event/bingo-the-center-2/2027-06-24/
LOCATION:Mid-Columbia Senior Center\, 1112 W. 9th Street\, The Dalles\, Oregon\, 97058
ATTACH;FMTTYPE=image/png:https://gorgenewscenter.com/wp-content/uploads/2021/12/Bingo.png
END:VEVENT
BEGIN:VEVENT
DTSTART;TZID=America/Los_Angeles:20270701T173000
DTEND;TZID=America/Los_Angeles:20270701T200000
DTSTAMP:20260421T145245
CREATED:20250123T191401Z
LAST-MODIFIED:20250123T191831Z
UID:10005292-1814463000-1814472000@gorgenewscenter.com
SUMMARY:Meals on Wheels Bingo @ The Senior Center
DESCRIPTION:
URL:https://gorgenewscenter.com/event/bingo-the-center-2/2027-07-01/
LOCATION:Mid-Columbia Senior Center\, 1112 W. 9th Street\, The Dalles\, Oregon\, 97058
ATTACH;FMTTYPE=image/png:https://gorgenewscenter.com/wp-content/uploads/2021/12/Bingo.png
END:VEVENT
BEGIN:VEVENT
DTSTART;TZID=America/Los_Angeles:20270708T173000
DTEND;TZID=America/Los_Angeles:20270708T200000
DTSTAMP:20260421T145245
CREATED:20250123T191401Z
LAST-MODIFIED:20250123T191831Z
UID:10005293-1815067800-1815076800@gorgenewscenter.com
SUMMARY:Meals on Wheels Bingo @ The Senior Center
DESCRIPTION:
URL:https://gorgenewscenter.com/event/bingo-the-center-2/2027-07-08/
LOCATION:Mid-Columbia Senior Center\, 1112 W. 9th Street\, The Dalles\, Oregon\, 97058
ATTACH;FMTTYPE=image/png:https://gorgenewscenter.com/wp-content/uploads/2021/12/Bingo.png
END:VEVENT
BEGIN:VEVENT
DTSTART;TZID=America/Los_Angeles:20270709T100000
DTEND;TZID=America/Los_Angeles:20270709T230000
DTSTAMP:20260421T145245
CREATED:20260216T171245Z
LAST-MODIFIED:20260216T171245Z
UID:10006099-1815127200-1815174000@gorgenewscenter.com
SUMMARY:Exploring the Short Story: Irish & American Literature
DESCRIPTION:Ready for a fascinating journey through literature? Join us for “Exploring the Short Story: Irish & American Literature” starting this March!This isn’t your typical book club—it’s an adult education course designed to get your mind thinking in new and wonderful ways. Led by instructor Kerry Cobb\, we will dive into modern short stories from both Ireland and the US. Each month\, we will read two short stories—one from each country under a specific theme—and then gather to review and discuss them in the following class.When: 2nd Friday of each month at 10:00am\, beginning in March 2026 Where: Mid-Columbia Senior Center in the Deschutes RoomThere is no cost to attend\, and all materials will be provided at no charge. All are welcome and no previous experience is needed—just bring your curiosity\, your sense of adventure\, and maybe a friend or two!Please sign up at the Mid-Columbia Senior Center front desk to reserve your spot. We can’t wait to see you there!
URL:https://gorgenewscenter.com/event/exploring-the-short-story-irish-american-literature/2027-07-09/
LOCATION:Mid-Columbia Senior Center\, 1112 W. 9th Street\, The Dalles\, Oregon\, 97058
ATTACH;FMTTYPE=image/jpeg:https://gorgenewscenter.com/wp-content/uploads/2026/02/626874985_1343619371137495_4274545812152122071_n.jpg
END:VEVENT
BEGIN:VEVENT
DTSTART;TZID=America/Los_Angeles:20270715T173000
DTEND;TZID=America/Los_Angeles:20270715T200000
DTSTAMP:20260421T145245
CREATED:20250123T191401Z
LAST-MODIFIED:20250123T191831Z
UID:10005294-1815672600-1815681600@gorgenewscenter.com
SUMMARY:Meals on Wheels Bingo @ The Senior Center
DESCRIPTION:
URL:https://gorgenewscenter.com/event/bingo-the-center-2/2027-07-15/
LOCATION:Mid-Columbia Senior Center\, 1112 W. 9th Street\, The Dalles\, Oregon\, 97058
ATTACH;FMTTYPE=image/png:https://gorgenewscenter.com/wp-content/uploads/2021/12/Bingo.png
END:VEVENT
BEGIN:VEVENT
DTSTART;TZID=America/Los_Angeles:20270722T173000
DTEND;TZID=America/Los_Angeles:20270722T200000
DTSTAMP:20260421T145245
CREATED:20250123T191401Z
LAST-MODIFIED:20250123T191831Z
UID:10005295-1816277400-1816286400@gorgenewscenter.com
SUMMARY:Meals on Wheels Bingo @ The Senior Center
DESCRIPTION:
URL:https://gorgenewscenter.com/event/bingo-the-center-2/2027-07-22/
LOCATION:Mid-Columbia Senior Center\, 1112 W. 9th Street\, The Dalles\, Oregon\, 97058
ATTACH;FMTTYPE=image/png:https://gorgenewscenter.com/wp-content/uploads/2021/12/Bingo.png
END:VEVENT
BEGIN:VEVENT
DTSTART;TZID=America/Los_Angeles:20270729T173000
DTEND;TZID=America/Los_Angeles:20270729T200000
DTSTAMP:20260421T145245
CREATED:20250123T191401Z
LAST-MODIFIED:20250123T191831Z
UID:10005296-1816882200-1816891200@gorgenewscenter.com
SUMMARY:Meals on Wheels Bingo @ The Senior Center
DESCRIPTION:
URL:https://gorgenewscenter.com/event/bingo-the-center-2/2027-07-29/
LOCATION:Mid-Columbia Senior Center\, 1112 W. 9th Street\, The Dalles\, Oregon\, 97058
ATTACH;FMTTYPE=image/png:https://gorgenewscenter.com/wp-content/uploads/2021/12/Bingo.png
END:VEVENT
BEGIN:VEVENT
DTSTART;TZID=America/Los_Angeles:20270805T173000
DTEND;TZID=America/Los_Angeles:20270805T200000
DTSTAMP:20260421T145245
CREATED:20250123T191401Z
LAST-MODIFIED:20250123T191831Z
UID:10005297-1817487000-1817496000@gorgenewscenter.com
SUMMARY:Meals on Wheels Bingo @ The Senior Center
DESCRIPTION:
URL:https://gorgenewscenter.com/event/bingo-the-center-2/2027-08-05/
LOCATION:Mid-Columbia Senior Center\, 1112 W. 9th Street\, The Dalles\, Oregon\, 97058
ATTACH;FMTTYPE=image/png:https://gorgenewscenter.com/wp-content/uploads/2021/12/Bingo.png
END:VEVENT
BEGIN:VEVENT
DTSTART;TZID=America/Los_Angeles:20270812T173000
DTEND;TZID=America/Los_Angeles:20270812T200000
DTSTAMP:20260421T145245
CREATED:20250123T191401Z
LAST-MODIFIED:20250123T191831Z
UID:10005298-1818091800-1818100800@gorgenewscenter.com
SUMMARY:Meals on Wheels Bingo @ The Senior Center
DESCRIPTION:
URL:https://gorgenewscenter.com/event/bingo-the-center-2/2027-08-12/
LOCATION:Mid-Columbia Senior Center\, 1112 W. 9th Street\, The Dalles\, Oregon\, 97058
ATTACH;FMTTYPE=image/png:https://gorgenewscenter.com/wp-content/uploads/2021/12/Bingo.png
END:VEVENT
BEGIN:VEVENT
DTSTART;TZID=America/Los_Angeles:20270813T100000
DTEND;TZID=America/Los_Angeles:20270813T230000
DTSTAMP:20260421T145245
CREATED:20260216T171245Z
LAST-MODIFIED:20260216T171245Z
UID:10006100-1818151200-1818198000@gorgenewscenter.com
SUMMARY:Exploring the Short Story: Irish & American Literature
DESCRIPTION:Ready for a fascinating journey through literature? Join us for “Exploring the Short Story: Irish & American Literature” starting this March!This isn’t your typical book club—it’s an adult education course designed to get your mind thinking in new and wonderful ways. Led by instructor Kerry Cobb\, we will dive into modern short stories from both Ireland and the US. Each month\, we will read two short stories—one from each country under a specific theme—and then gather to review and discuss them in the following class.When: 2nd Friday of each month at 10:00am\, beginning in March 2026 Where: Mid-Columbia Senior Center in the Deschutes RoomThere is no cost to attend\, and all materials will be provided at no charge. All are welcome and no previous experience is needed—just bring your curiosity\, your sense of adventure\, and maybe a friend or two!Please sign up at the Mid-Columbia Senior Center front desk to reserve your spot. We can’t wait to see you there!
URL:https://gorgenewscenter.com/event/exploring-the-short-story-irish-american-literature/2027-08-13/
LOCATION:Mid-Columbia Senior Center\, 1112 W. 9th Street\, The Dalles\, Oregon\, 97058
ATTACH;FMTTYPE=image/jpeg:https://gorgenewscenter.com/wp-content/uploads/2026/02/626874985_1343619371137495_4274545812152122071_n.jpg
END:VEVENT
BEGIN:VEVENT
DTSTART;TZID=America/Los_Angeles:20270819T173000
DTEND;TZID=America/Los_Angeles:20270819T200000
DTSTAMP:20260421T145245
CREATED:20250123T191401Z
LAST-MODIFIED:20250123T191831Z
UID:10005299-1818696600-1818705600@gorgenewscenter.com
SUMMARY:Meals on Wheels Bingo @ The Senior Center
DESCRIPTION:
URL:https://gorgenewscenter.com/event/bingo-the-center-2/2027-08-19/
LOCATION:Mid-Columbia Senior Center\, 1112 W. 9th Street\, The Dalles\, Oregon\, 97058
ATTACH;FMTTYPE=image/png:https://gorgenewscenter.com/wp-content/uploads/2021/12/Bingo.png
END:VEVENT
BEGIN:VEVENT
DTSTART;TZID=America/Los_Angeles:20270826T173000
DTEND;TZID=America/Los_Angeles:20270826T200000
DTSTAMP:20260421T145245
CREATED:20250123T191401Z
LAST-MODIFIED:20250123T191831Z
UID:10005300-1819301400-1819310400@gorgenewscenter.com
SUMMARY:Meals on Wheels Bingo @ The Senior Center
DESCRIPTION:
URL:https://gorgenewscenter.com/event/bingo-the-center-2/2027-08-26/
LOCATION:Mid-Columbia Senior Center\, 1112 W. 9th Street\, The Dalles\, Oregon\, 97058
ATTACH;FMTTYPE=image/png:https://gorgenewscenter.com/wp-content/uploads/2021/12/Bingo.png
END:VEVENT
BEGIN:VEVENT
DTSTART;TZID=America/Los_Angeles:20270902T173000
DTEND;TZID=America/Los_Angeles:20270902T200000
DTSTAMP:20260421T145245
CREATED:20250123T191401Z
LAST-MODIFIED:20250123T191831Z
UID:10005301-1819906200-1819915200@gorgenewscenter.com
SUMMARY:Meals on Wheels Bingo @ The Senior Center
DESCRIPTION:
URL:https://gorgenewscenter.com/event/bingo-the-center-2/2027-09-02/
LOCATION:Mid-Columbia Senior Center\, 1112 W. 9th Street\, The Dalles\, Oregon\, 97058
ATTACH;FMTTYPE=image/png:https://gorgenewscenter.com/wp-content/uploads/2021/12/Bingo.png
END:VEVENT
BEGIN:VEVENT
DTSTART;TZID=America/Los_Angeles:20270909T173000
DTEND;TZID=America/Los_Angeles:20270909T200000
DTSTAMP:20260421T145245
CREATED:20250123T191401Z
LAST-MODIFIED:20250123T191831Z
UID:10005302-1820511000-1820520000@gorgenewscenter.com
SUMMARY:Meals on Wheels Bingo @ The Senior Center
DESCRIPTION:
URL:https://gorgenewscenter.com/event/bingo-the-center-2/2027-09-09/
LOCATION:Mid-Columbia Senior Center\, 1112 W. 9th Street\, The Dalles\, Oregon\, 97058
ATTACH;FMTTYPE=image/png:https://gorgenewscenter.com/wp-content/uploads/2021/12/Bingo.png
END:VEVENT
BEGIN:VEVENT
DTSTART;TZID=America/Los_Angeles:20270910T100000
DTEND;TZID=America/Los_Angeles:20270910T230000
DTSTAMP:20260421T145245
CREATED:20260216T171245Z
LAST-MODIFIED:20260216T171245Z
UID:10006101-1820570400-1820617200@gorgenewscenter.com
SUMMARY:Exploring the Short Story: Irish & American Literature
DESCRIPTION:Ready for a fascinating journey through literature? Join us for “Exploring the Short Story: Irish & American Literature” starting this March!This isn’t your typical book club—it’s an adult education course designed to get your mind thinking in new and wonderful ways. Led by instructor Kerry Cobb\, we will dive into modern short stories from both Ireland and the US. Each month\, we will read two short stories—one from each country under a specific theme—and then gather to review and discuss them in the following class.When: 2nd Friday of each month at 10:00am\, beginning in March 2026 Where: Mid-Columbia Senior Center in the Deschutes RoomThere is no cost to attend\, and all materials will be provided at no charge. All are welcome and no previous experience is needed—just bring your curiosity\, your sense of adventure\, and maybe a friend or two!Please sign up at the Mid-Columbia Senior Center front desk to reserve your spot. We can’t wait to see you there!
URL:https://gorgenewscenter.com/event/exploring-the-short-story-irish-american-literature/2027-09-10/
LOCATION:Mid-Columbia Senior Center\, 1112 W. 9th Street\, The Dalles\, Oregon\, 97058
ATTACH;FMTTYPE=image/jpeg:https://gorgenewscenter.com/wp-content/uploads/2026/02/626874985_1343619371137495_4274545812152122071_n.jpg
END:VEVENT
BEGIN:VEVENT
DTSTART;TZID=America/Los_Angeles:20270916T173000
DTEND;TZID=America/Los_Angeles:20270916T200000
DTSTAMP:20260421T145245
CREATED:20250123T191401Z
LAST-MODIFIED:20250123T191831Z
UID:10005303-1821115800-1821124800@gorgenewscenter.com
SUMMARY:Meals on Wheels Bingo @ The Senior Center
DESCRIPTION:
URL:https://gorgenewscenter.com/event/bingo-the-center-2/2027-09-16/
LOCATION:Mid-Columbia Senior Center\, 1112 W. 9th Street\, The Dalles\, Oregon\, 97058
ATTACH;FMTTYPE=image/png:https://gorgenewscenter.com/wp-content/uploads/2021/12/Bingo.png
END:VEVENT
BEGIN:VEVENT
DTSTART;TZID=America/Los_Angeles:20270923T173000
DTEND;TZID=America/Los_Angeles:20270923T200000
DTSTAMP:20260421T145245
CREATED:20250123T191401Z
LAST-MODIFIED:20250123T191831Z
UID:10005304-1821720600-1821729600@gorgenewscenter.com
SUMMARY:Meals on Wheels Bingo @ The Senior Center
DESCRIPTION:
URL:https://gorgenewscenter.com/event/bingo-the-center-2/2027-09-23/
LOCATION:Mid-Columbia Senior Center\, 1112 W. 9th Street\, The Dalles\, Oregon\, 97058
ATTACH;FMTTYPE=image/png:https://gorgenewscenter.com/wp-content/uploads/2021/12/Bingo.png
END:VEVENT
BEGIN:VEVENT
DTSTART;TZID=America/Los_Angeles:20270930T173000
DTEND;TZID=America/Los_Angeles:20270930T200000
DTSTAMP:20260421T145245
CREATED:20250123T191401Z
LAST-MODIFIED:20250123T191831Z
UID:10005305-1822325400-1822334400@gorgenewscenter.com
SUMMARY:Meals on Wheels Bingo @ The Senior Center
DESCRIPTION:
URL:https://gorgenewscenter.com/event/bingo-the-center-2/2027-09-30/
LOCATION:Mid-Columbia Senior Center\, 1112 W. 9th Street\, The Dalles\, Oregon\, 97058
ATTACH;FMTTYPE=image/png:https://gorgenewscenter.com/wp-content/uploads/2021/12/Bingo.png
END:VEVENT
BEGIN:VEVENT
DTSTART;TZID=America/Los_Angeles:20271007T173000
DTEND;TZID=America/Los_Angeles:20271007T200000
DTSTAMP:20260421T145245
CREATED:20250123T191401Z
LAST-MODIFIED:20250123T191831Z
UID:10005306-1822930200-1822939200@gorgenewscenter.com
SUMMARY:Meals on Wheels Bingo @ The Senior Center
DESCRIPTION:
URL:https://gorgenewscenter.com/event/bingo-the-center-2/2027-10-07/
LOCATION:Mid-Columbia Senior Center\, 1112 W. 9th Street\, The Dalles\, Oregon\, 97058
ATTACH;FMTTYPE=image/png:https://gorgenewscenter.com/wp-content/uploads/2021/12/Bingo.png
END:VEVENT
BEGIN:VEVENT
DTSTART;TZID=America/Los_Angeles:20271008T100000
DTEND;TZID=America/Los_Angeles:20271008T230000
DTSTAMP:20260421T145245
CREATED:20260216T171245Z
LAST-MODIFIED:20260216T171245Z
UID:10006102-1822989600-1823036400@gorgenewscenter.com
SUMMARY:Exploring the Short Story: Irish & American Literature
DESCRIPTION:Ready for a fascinating journey through literature? Join us for “Exploring the Short Story: Irish & American Literature” starting this March!This isn’t your typical book club—it’s an adult education course designed to get your mind thinking in new and wonderful ways. Led by instructor Kerry Cobb\, we will dive into modern short stories from both Ireland and the US. Each month\, we will read two short stories—one from each country under a specific theme—and then gather to review and discuss them in the following class.When: 2nd Friday of each month at 10:00am\, beginning in March 2026 Where: Mid-Columbia Senior Center in the Deschutes RoomThere is no cost to attend\, and all materials will be provided at no charge. All are welcome and no previous experience is needed—just bring your curiosity\, your sense of adventure\, and maybe a friend or two!Please sign up at the Mid-Columbia Senior Center front desk to reserve your spot. We can’t wait to see you there!
URL:https://gorgenewscenter.com/event/exploring-the-short-story-irish-american-literature/2027-10-08/
LOCATION:Mid-Columbia Senior Center\, 1112 W. 9th Street\, The Dalles\, Oregon\, 97058
ATTACH;FMTTYPE=image/jpeg:https://gorgenewscenter.com/wp-content/uploads/2026/02/626874985_1343619371137495_4274545812152122071_n.jpg
END:VEVENT
BEGIN:VEVENT
DTSTART;TZID=America/Los_Angeles:20271014T173000
DTEND;TZID=America/Los_Angeles:20271014T200000
DTSTAMP:20260421T145245
CREATED:20250123T191401Z
LAST-MODIFIED:20250123T191831Z
UID:10005307-1823535000-1823544000@gorgenewscenter.com
SUMMARY:Meals on Wheels Bingo @ The Senior Center
DESCRIPTION:
URL:https://gorgenewscenter.com/event/bingo-the-center-2/2027-10-14/
LOCATION:Mid-Columbia Senior Center\, 1112 W. 9th Street\, The Dalles\, Oregon\, 97058
ATTACH;FMTTYPE=image/png:https://gorgenewscenter.com/wp-content/uploads/2021/12/Bingo.png
END:VEVENT
BEGIN:VEVENT
DTSTART;TZID=America/Los_Angeles:20271021T173000
DTEND;TZID=America/Los_Angeles:20271021T200000
DTSTAMP:20260421T145245
CREATED:20250123T191401Z
LAST-MODIFIED:20250123T191831Z
UID:10005308-1824139800-1824148800@gorgenewscenter.com
SUMMARY:Meals on Wheels Bingo @ The Senior Center
DESCRIPTION:
URL:https://gorgenewscenter.com/event/bingo-the-center-2/2027-10-21/
LOCATION:Mid-Columbia Senior Center\, 1112 W. 9th Street\, The Dalles\, Oregon\, 97058
ATTACH;FMTTYPE=image/png:https://gorgenewscenter.com/wp-content/uploads/2021/12/Bingo.png
END:VEVENT
BEGIN:VEVENT
DTSTART;TZID=America/Los_Angeles:20271028T173000
DTEND;TZID=America/Los_Angeles:20271028T200000
DTSTAMP:20260421T145245
CREATED:20250123T191401Z
LAST-MODIFIED:20250123T191831Z
UID:10005309-1824744600-1824753600@gorgenewscenter.com
SUMMARY:Meals on Wheels Bingo @ The Senior Center
DESCRIPTION:
URL:https://gorgenewscenter.com/event/bingo-the-center-2/2027-10-28/
LOCATION:Mid-Columbia Senior Center\, 1112 W. 9th Street\, The Dalles\, Oregon\, 97058
ATTACH;FMTTYPE=image/png:https://gorgenewscenter.com/wp-content/uploads/2021/12/Bingo.png
END:VEVENT
BEGIN:VEVENT
DTSTART;TZID=America/Los_Angeles:20271104T173000
DTEND;TZID=America/Los_Angeles:20271104T200000
DTSTAMP:20260421T145245
CREATED:20250123T191401Z
LAST-MODIFIED:20250123T191831Z
UID:10005310-1825349400-1825358400@gorgenewscenter.com
SUMMARY:Meals on Wheels Bingo @ The Senior Center
DESCRIPTION:
URL:https://gorgenewscenter.com/event/bingo-the-center-2/2027-11-04/
LOCATION:Mid-Columbia Senior Center\, 1112 W. 9th Street\, The Dalles\, Oregon\, 97058
ATTACH;FMTTYPE=image/png:https://gorgenewscenter.com/wp-content/uploads/2021/12/Bingo.png
END:VEVENT
BEGIN:VEVENT
DTSTART;TZID=America/Los_Angeles:20271111T173000
DTEND;TZID=America/Los_Angeles:20271111T200000
DTSTAMP:20260421T145245
CREATED:20250123T191401Z
LAST-MODIFIED:20250123T191831Z
UID:10005311-1825954200-1825963200@gorgenewscenter.com
SUMMARY:Meals on Wheels Bingo @ The Senior Center
DESCRIPTION:
URL:https://gorgenewscenter.com/event/bingo-the-center-2/2027-11-11/
LOCATION:Mid-Columbia Senior Center\, 1112 W. 9th Street\, The Dalles\, Oregon\, 97058
ATTACH;FMTTYPE=image/png:https://gorgenewscenter.com/wp-content/uploads/2021/12/Bingo.png
END:VEVENT
BEGIN:VEVENT
DTSTART;TZID=America/Los_Angeles:20271112T100000
DTEND;TZID=America/Los_Angeles:20271112T230000
DTSTAMP:20260421T145245
CREATED:20260216T171245Z
LAST-MODIFIED:20260216T171245Z
UID:10006103-1826013600-1826060400@gorgenewscenter.com
SUMMARY:Exploring the Short Story: Irish & American Literature
DESCRIPTION:Ready for a fascinating journey through literature? Join us for “Exploring the Short Story: Irish & American Literature” starting this March!This isn’t your typical book club—it’s an adult education course designed to get your mind thinking in new and wonderful ways. Led by instructor Kerry Cobb\, we will dive into modern short stories from both Ireland and the US. Each month\, we will read two short stories—one from each country under a specific theme—and then gather to review and discuss them in the following class.When: 2nd Friday of each month at 10:00am\, beginning in March 2026 Where: Mid-Columbia Senior Center in the Deschutes RoomThere is no cost to attend\, and all materials will be provided at no charge. All are welcome and no previous experience is needed—just bring your curiosity\, your sense of adventure\, and maybe a friend or two!Please sign up at the Mid-Columbia Senior Center front desk to reserve your spot. We can’t wait to see you there!
URL:https://gorgenewscenter.com/event/exploring-the-short-story-irish-american-literature/2027-11-12/
LOCATION:Mid-Columbia Senior Center\, 1112 W. 9th Street\, The Dalles\, Oregon\, 97058
ATTACH;FMTTYPE=image/jpeg:https://gorgenewscenter.com/wp-content/uploads/2026/02/626874985_1343619371137495_4274545812152122071_n.jpg
END:VEVENT
BEGIN:VEVENT
DTSTART;TZID=America/Los_Angeles:20271118T173000
DTEND;TZID=America/Los_Angeles:20271118T200000
DTSTAMP:20260421T145245
CREATED:20250123T191401Z
LAST-MODIFIED:20250123T191831Z
UID:10005312-1826559000-1826568000@gorgenewscenter.com
SUMMARY:Meals on Wheels Bingo @ The Senior Center
DESCRIPTION:
URL:https://gorgenewscenter.com/event/bingo-the-center-2/2027-11-18/
LOCATION:Mid-Columbia Senior Center\, 1112 W. 9th Street\, The Dalles\, Oregon\, 97058
ATTACH;FMTTYPE=image/png:https://gorgenewscenter.com/wp-content/uploads/2021/12/Bingo.png
END:VEVENT
END:VCALENDAR