BEGIN:VCALENDAR
VERSION:2.0
PRODID:-// - ECPv6.15.13//NONSGML v1.0//EN
CALSCALE:GREGORIAN
METHOD:PUBLISH
X-ORIGINAL-URL:https://gorgenewscenter.com
X-WR-CALDESC:Events for 
REFRESH-INTERVAL;VALUE=DURATION:PT1H
X-Robots-Tag:noindex
X-PUBLISHED-TTL:PT1H
BEGIN:VTIMEZONE
TZID:America/Los_Angeles
BEGIN:DAYLIGHT
TZOFFSETFROM:-0800
TZOFFSETTO:-0700
TZNAME:PDT
DTSTART:20270314T100000
END:DAYLIGHT
BEGIN:STANDARD
TZOFFSETFROM:-0700
TZOFFSETTO:-0800
TZNAME:PST
DTSTART:20271107T090000
END:STANDARD
BEGIN:DAYLIGHT
TZOFFSETFROM:-0800
TZOFFSETTO:-0700
TZNAME:PDT
DTSTART:20280312T100000
END:DAYLIGHT
BEGIN:STANDARD
TZOFFSETFROM:-0700
TZOFFSETTO:-0800
TZNAME:PST
DTSTART:20281105T090000
END:STANDARD
BEGIN:DAYLIGHT
TZOFFSETFROM:-0800
TZOFFSETTO:-0700
TZNAME:PDT
DTSTART:20290311T100000
END:DAYLIGHT
BEGIN:STANDARD
TZOFFSETFROM:-0700
TZOFFSETTO:-0800
TZNAME:PST
DTSTART:20291104T090000
END:STANDARD
BEGIN:DAYLIGHT
TZOFFSETFROM:-0800
TZOFFSETTO:-0700
TZNAME:PDT
DTSTART:20300310T100000
END:DAYLIGHT
BEGIN:STANDARD
TZOFFSETFROM:-0700
TZOFFSETTO:-0800
TZNAME:PST
DTSTART:20301103T090000
END:STANDARD
END:VTIMEZONE
BEGIN:VEVENT
DTSTART;TZID=America/Los_Angeles:20280720T173000
DTEND;TZID=America/Los_Angeles:20280720T200000
DTSTAMP:20260421T231611
CREATED:20250123T191401Z
LAST-MODIFIED:20250123T191831Z
UID:10005347-1847727000-1847736000@gorgenewscenter.com
SUMMARY:Meals on Wheels Bingo @ The Senior Center
DESCRIPTION:
URL:https://gorgenewscenter.com/event/bingo-the-center-2/2028-07-20/
LOCATION:Mid-Columbia Senior Center\, 1112 W. 9th Street\, The Dalles\, Oregon\, 97058
ATTACH;FMTTYPE=image/png:https://gorgenewscenter.com/wp-content/uploads/2021/12/Bingo.png
END:VEVENT
BEGIN:VEVENT
DTSTART;TZID=America/Los_Angeles:20280727T173000
DTEND;TZID=America/Los_Angeles:20280727T200000
DTSTAMP:20260421T231611
CREATED:20250123T191401Z
LAST-MODIFIED:20250123T191831Z
UID:10005348-1848331800-1848340800@gorgenewscenter.com
SUMMARY:Meals on Wheels Bingo @ The Senior Center
DESCRIPTION:
URL:https://gorgenewscenter.com/event/bingo-the-center-2/2028-07-27/
LOCATION:Mid-Columbia Senior Center\, 1112 W. 9th Street\, The Dalles\, Oregon\, 97058
ATTACH;FMTTYPE=image/png:https://gorgenewscenter.com/wp-content/uploads/2021/12/Bingo.png
END:VEVENT
BEGIN:VEVENT
DTSTART;TZID=America/Los_Angeles:20280803T173000
DTEND;TZID=America/Los_Angeles:20280803T200000
DTSTAMP:20260421T231611
CREATED:20250123T191401Z
LAST-MODIFIED:20250123T191831Z
UID:10005349-1848936600-1848945600@gorgenewscenter.com
SUMMARY:Meals on Wheels Bingo @ The Senior Center
DESCRIPTION:
URL:https://gorgenewscenter.com/event/bingo-the-center-2/2028-08-03/
LOCATION:Mid-Columbia Senior Center\, 1112 W. 9th Street\, The Dalles\, Oregon\, 97058
ATTACH;FMTTYPE=image/png:https://gorgenewscenter.com/wp-content/uploads/2021/12/Bingo.png
END:VEVENT
BEGIN:VEVENT
DTSTART;TZID=America/Los_Angeles:20280810T173000
DTEND;TZID=America/Los_Angeles:20280810T200000
DTSTAMP:20260421T231611
CREATED:20250123T191401Z
LAST-MODIFIED:20250123T191831Z
UID:10005350-1849541400-1849550400@gorgenewscenter.com
SUMMARY:Meals on Wheels Bingo @ The Senior Center
DESCRIPTION:
URL:https://gorgenewscenter.com/event/bingo-the-center-2/2028-08-10/
LOCATION:Mid-Columbia Senior Center\, 1112 W. 9th Street\, The Dalles\, Oregon\, 97058
ATTACH;FMTTYPE=image/png:https://gorgenewscenter.com/wp-content/uploads/2021/12/Bingo.png
END:VEVENT
BEGIN:VEVENT
DTSTART;TZID=America/Los_Angeles:20280811T100000
DTEND;TZID=America/Los_Angeles:20280811T230000
DTSTAMP:20260421T231611
CREATED:20260216T171245Z
LAST-MODIFIED:20260216T171245Z
UID:10006112-1849600800-1849647600@gorgenewscenter.com
SUMMARY:Exploring the Short Story: Irish & American Literature
DESCRIPTION:Ready for a fascinating journey through literature? Join us for “Exploring the Short Story: Irish & American Literature” starting this March!This isn’t your typical book club—it’s an adult education course designed to get your mind thinking in new and wonderful ways. Led by instructor Kerry Cobb\, we will dive into modern short stories from both Ireland and the US. Each month\, we will read two short stories—one from each country under a specific theme—and then gather to review and discuss them in the following class.When: 2nd Friday of each month at 10:00am\, beginning in March 2026 Where: Mid-Columbia Senior Center in the Deschutes RoomThere is no cost to attend\, and all materials will be provided at no charge. All are welcome and no previous experience is needed—just bring your curiosity\, your sense of adventure\, and maybe a friend or two!Please sign up at the Mid-Columbia Senior Center front desk to reserve your spot. We can’t wait to see you there!
URL:https://gorgenewscenter.com/event/exploring-the-short-story-irish-american-literature/2028-08-11/
LOCATION:Mid-Columbia Senior Center\, 1112 W. 9th Street\, The Dalles\, Oregon\, 97058
ATTACH;FMTTYPE=image/jpeg:https://gorgenewscenter.com/wp-content/uploads/2026/02/626874985_1343619371137495_4274545812152122071_n.jpg
END:VEVENT
BEGIN:VEVENT
DTSTART;TZID=America/Los_Angeles:20280817T173000
DTEND;TZID=America/Los_Angeles:20280817T200000
DTSTAMP:20260421T231611
CREATED:20250123T191401Z
LAST-MODIFIED:20250123T191831Z
UID:10005351-1850146200-1850155200@gorgenewscenter.com
SUMMARY:Meals on Wheels Bingo @ The Senior Center
DESCRIPTION:
URL:https://gorgenewscenter.com/event/bingo-the-center-2/2028-08-17/
LOCATION:Mid-Columbia Senior Center\, 1112 W. 9th Street\, The Dalles\, Oregon\, 97058
ATTACH;FMTTYPE=image/png:https://gorgenewscenter.com/wp-content/uploads/2021/12/Bingo.png
END:VEVENT
BEGIN:VEVENT
DTSTART;TZID=America/Los_Angeles:20280824T173000
DTEND;TZID=America/Los_Angeles:20280824T200000
DTSTAMP:20260421T231611
CREATED:20250123T191401Z
LAST-MODIFIED:20250123T191831Z
UID:10005352-1850751000-1850760000@gorgenewscenter.com
SUMMARY:Meals on Wheels Bingo @ The Senior Center
DESCRIPTION:
URL:https://gorgenewscenter.com/event/bingo-the-center-2/2028-08-24/
LOCATION:Mid-Columbia Senior Center\, 1112 W. 9th Street\, The Dalles\, Oregon\, 97058
ATTACH;FMTTYPE=image/png:https://gorgenewscenter.com/wp-content/uploads/2021/12/Bingo.png
END:VEVENT
BEGIN:VEVENT
DTSTART;TZID=America/Los_Angeles:20280831T173000
DTEND;TZID=America/Los_Angeles:20280831T200000
DTSTAMP:20260421T231611
CREATED:20250123T191401Z
LAST-MODIFIED:20250123T191831Z
UID:10005353-1851355800-1851364800@gorgenewscenter.com
SUMMARY:Meals on Wheels Bingo @ The Senior Center
DESCRIPTION:
URL:https://gorgenewscenter.com/event/bingo-the-center-2/2028-08-31/
LOCATION:Mid-Columbia Senior Center\, 1112 W. 9th Street\, The Dalles\, Oregon\, 97058
ATTACH;FMTTYPE=image/png:https://gorgenewscenter.com/wp-content/uploads/2021/12/Bingo.png
END:VEVENT
BEGIN:VEVENT
DTSTART;TZID=America/Los_Angeles:20280907T173000
DTEND;TZID=America/Los_Angeles:20280907T200000
DTSTAMP:20260421T231611
CREATED:20250123T191401Z
LAST-MODIFIED:20250123T191831Z
UID:10005354-1851960600-1851969600@gorgenewscenter.com
SUMMARY:Meals on Wheels Bingo @ The Senior Center
DESCRIPTION:
URL:https://gorgenewscenter.com/event/bingo-the-center-2/2028-09-07/
LOCATION:Mid-Columbia Senior Center\, 1112 W. 9th Street\, The Dalles\, Oregon\, 97058
ATTACH;FMTTYPE=image/png:https://gorgenewscenter.com/wp-content/uploads/2021/12/Bingo.png
END:VEVENT
BEGIN:VEVENT
DTSTART;TZID=America/Los_Angeles:20280908T100000
DTEND;TZID=America/Los_Angeles:20280908T230000
DTSTAMP:20260421T231611
CREATED:20260216T171245Z
LAST-MODIFIED:20260216T171245Z
UID:10006113-1852020000-1852066800@gorgenewscenter.com
SUMMARY:Exploring the Short Story: Irish & American Literature
DESCRIPTION:Ready for a fascinating journey through literature? Join us for “Exploring the Short Story: Irish & American Literature” starting this March!This isn’t your typical book club—it’s an adult education course designed to get your mind thinking in new and wonderful ways. Led by instructor Kerry Cobb\, we will dive into modern short stories from both Ireland and the US. Each month\, we will read two short stories—one from each country under a specific theme—and then gather to review and discuss them in the following class.When: 2nd Friday of each month at 10:00am\, beginning in March 2026 Where: Mid-Columbia Senior Center in the Deschutes RoomThere is no cost to attend\, and all materials will be provided at no charge. All are welcome and no previous experience is needed—just bring your curiosity\, your sense of adventure\, and maybe a friend or two!Please sign up at the Mid-Columbia Senior Center front desk to reserve your spot. We can’t wait to see you there!
URL:https://gorgenewscenter.com/event/exploring-the-short-story-irish-american-literature/2028-09-08/
LOCATION:Mid-Columbia Senior Center\, 1112 W. 9th Street\, The Dalles\, Oregon\, 97058
ATTACH;FMTTYPE=image/jpeg:https://gorgenewscenter.com/wp-content/uploads/2026/02/626874985_1343619371137495_4274545812152122071_n.jpg
END:VEVENT
BEGIN:VEVENT
DTSTART;TZID=America/Los_Angeles:20280914T173000
DTEND;TZID=America/Los_Angeles:20280914T200000
DTSTAMP:20260421T231611
CREATED:20250123T191401Z
LAST-MODIFIED:20250123T191831Z
UID:10005355-1852565400-1852574400@gorgenewscenter.com
SUMMARY:Meals on Wheels Bingo @ The Senior Center
DESCRIPTION:
URL:https://gorgenewscenter.com/event/bingo-the-center-2/2028-09-14/
LOCATION:Mid-Columbia Senior Center\, 1112 W. 9th Street\, The Dalles\, Oregon\, 97058
ATTACH;FMTTYPE=image/png:https://gorgenewscenter.com/wp-content/uploads/2021/12/Bingo.png
END:VEVENT
BEGIN:VEVENT
DTSTART;TZID=America/Los_Angeles:20280921T173000
DTEND;TZID=America/Los_Angeles:20280921T200000
DTSTAMP:20260421T231611
CREATED:20250123T191401Z
LAST-MODIFIED:20250123T191831Z
UID:10005356-1853170200-1853179200@gorgenewscenter.com
SUMMARY:Meals on Wheels Bingo @ The Senior Center
DESCRIPTION:
URL:https://gorgenewscenter.com/event/bingo-the-center-2/2028-09-21/
LOCATION:Mid-Columbia Senior Center\, 1112 W. 9th Street\, The Dalles\, Oregon\, 97058
ATTACH;FMTTYPE=image/png:https://gorgenewscenter.com/wp-content/uploads/2021/12/Bingo.png
END:VEVENT
BEGIN:VEVENT
DTSTART;TZID=America/Los_Angeles:20280928T173000
DTEND;TZID=America/Los_Angeles:20280928T200000
DTSTAMP:20260421T231611
CREATED:20250123T191401Z
LAST-MODIFIED:20250123T191831Z
UID:10005357-1853775000-1853784000@gorgenewscenter.com
SUMMARY:Meals on Wheels Bingo @ The Senior Center
DESCRIPTION:
URL:https://gorgenewscenter.com/event/bingo-the-center-2/2028-09-28/
LOCATION:Mid-Columbia Senior Center\, 1112 W. 9th Street\, The Dalles\, Oregon\, 97058
ATTACH;FMTTYPE=image/png:https://gorgenewscenter.com/wp-content/uploads/2021/12/Bingo.png
END:VEVENT
BEGIN:VEVENT
DTSTART;TZID=America/Los_Angeles:20281005T173000
DTEND;TZID=America/Los_Angeles:20281005T200000
DTSTAMP:20260421T231611
CREATED:20250123T191401Z
LAST-MODIFIED:20250123T191831Z
UID:10005358-1854379800-1854388800@gorgenewscenter.com
SUMMARY:Meals on Wheels Bingo @ The Senior Center
DESCRIPTION:
URL:https://gorgenewscenter.com/event/bingo-the-center-2/2028-10-05/
LOCATION:Mid-Columbia Senior Center\, 1112 W. 9th Street\, The Dalles\, Oregon\, 97058
ATTACH;FMTTYPE=image/png:https://gorgenewscenter.com/wp-content/uploads/2021/12/Bingo.png
END:VEVENT
BEGIN:VEVENT
DTSTART;TZID=America/Los_Angeles:20281012T173000
DTEND;TZID=America/Los_Angeles:20281012T200000
DTSTAMP:20260421T231611
CREATED:20250123T191401Z
LAST-MODIFIED:20250123T191831Z
UID:10005359-1854984600-1854993600@gorgenewscenter.com
SUMMARY:Meals on Wheels Bingo @ The Senior Center
DESCRIPTION:
URL:https://gorgenewscenter.com/event/bingo-the-center-2/2028-10-12/
LOCATION:Mid-Columbia Senior Center\, 1112 W. 9th Street\, The Dalles\, Oregon\, 97058
ATTACH;FMTTYPE=image/png:https://gorgenewscenter.com/wp-content/uploads/2021/12/Bingo.png
END:VEVENT
BEGIN:VEVENT
DTSTART;TZID=America/Los_Angeles:20281013T100000
DTEND;TZID=America/Los_Angeles:20281013T230000
DTSTAMP:20260421T231611
CREATED:20260216T171245Z
LAST-MODIFIED:20260216T171245Z
UID:10006114-1855044000-1855090800@gorgenewscenter.com
SUMMARY:Exploring the Short Story: Irish & American Literature
DESCRIPTION:Ready for a fascinating journey through literature? Join us for “Exploring the Short Story: Irish & American Literature” starting this March!This isn’t your typical book club—it’s an adult education course designed to get your mind thinking in new and wonderful ways. Led by instructor Kerry Cobb\, we will dive into modern short stories from both Ireland and the US. Each month\, we will read two short stories—one from each country under a specific theme—and then gather to review and discuss them in the following class.When: 2nd Friday of each month at 10:00am\, beginning in March 2026 Where: Mid-Columbia Senior Center in the Deschutes RoomThere is no cost to attend\, and all materials will be provided at no charge. All are welcome and no previous experience is needed—just bring your curiosity\, your sense of adventure\, and maybe a friend or two!Please sign up at the Mid-Columbia Senior Center front desk to reserve your spot. We can’t wait to see you there!
URL:https://gorgenewscenter.com/event/exploring-the-short-story-irish-american-literature/2028-10-13/
LOCATION:Mid-Columbia Senior Center\, 1112 W. 9th Street\, The Dalles\, Oregon\, 97058
ATTACH;FMTTYPE=image/jpeg:https://gorgenewscenter.com/wp-content/uploads/2026/02/626874985_1343619371137495_4274545812152122071_n.jpg
END:VEVENT
BEGIN:VEVENT
DTSTART;TZID=America/Los_Angeles:20281019T173000
DTEND;TZID=America/Los_Angeles:20281019T200000
DTSTAMP:20260421T231611
CREATED:20250123T191401Z
LAST-MODIFIED:20250123T191831Z
UID:10005360-1855589400-1855598400@gorgenewscenter.com
SUMMARY:Meals on Wheels Bingo @ The Senior Center
DESCRIPTION:
URL:https://gorgenewscenter.com/event/bingo-the-center-2/2028-10-19/
LOCATION:Mid-Columbia Senior Center\, 1112 W. 9th Street\, The Dalles\, Oregon\, 97058
ATTACH;FMTTYPE=image/png:https://gorgenewscenter.com/wp-content/uploads/2021/12/Bingo.png
END:VEVENT
BEGIN:VEVENT
DTSTART;TZID=America/Los_Angeles:20281026T173000
DTEND;TZID=America/Los_Angeles:20281026T200000
DTSTAMP:20260421T231611
CREATED:20250123T191401Z
LAST-MODIFIED:20250123T191831Z
UID:10005361-1856194200-1856203200@gorgenewscenter.com
SUMMARY:Meals on Wheels Bingo @ The Senior Center
DESCRIPTION:
URL:https://gorgenewscenter.com/event/bingo-the-center-2/2028-10-26/
LOCATION:Mid-Columbia Senior Center\, 1112 W. 9th Street\, The Dalles\, Oregon\, 97058
ATTACH;FMTTYPE=image/png:https://gorgenewscenter.com/wp-content/uploads/2021/12/Bingo.png
END:VEVENT
BEGIN:VEVENT
DTSTART;TZID=America/Los_Angeles:20281102T173000
DTEND;TZID=America/Los_Angeles:20281102T200000
DTSTAMP:20260421T231611
CREATED:20250123T191401Z
LAST-MODIFIED:20250123T191831Z
UID:10005362-1856799000-1856808000@gorgenewscenter.com
SUMMARY:Meals on Wheels Bingo @ The Senior Center
DESCRIPTION:
URL:https://gorgenewscenter.com/event/bingo-the-center-2/2028-11-02/
LOCATION:Mid-Columbia Senior Center\, 1112 W. 9th Street\, The Dalles\, Oregon\, 97058
ATTACH;FMTTYPE=image/png:https://gorgenewscenter.com/wp-content/uploads/2021/12/Bingo.png
END:VEVENT
BEGIN:VEVENT
DTSTART;TZID=America/Los_Angeles:20281109T173000
DTEND;TZID=America/Los_Angeles:20281109T200000
DTSTAMP:20260421T231611
CREATED:20250123T191401Z
LAST-MODIFIED:20250123T191831Z
UID:10005363-1857403800-1857412800@gorgenewscenter.com
SUMMARY:Meals on Wheels Bingo @ The Senior Center
DESCRIPTION:
URL:https://gorgenewscenter.com/event/bingo-the-center-2/2028-11-09/
LOCATION:Mid-Columbia Senior Center\, 1112 W. 9th Street\, The Dalles\, Oregon\, 97058
ATTACH;FMTTYPE=image/png:https://gorgenewscenter.com/wp-content/uploads/2021/12/Bingo.png
END:VEVENT
BEGIN:VEVENT
DTSTART;TZID=America/Los_Angeles:20281110T100000
DTEND;TZID=America/Los_Angeles:20281110T230000
DTSTAMP:20260421T231611
CREATED:20260216T171245Z
LAST-MODIFIED:20260216T171245Z
UID:10006115-1857463200-1857510000@gorgenewscenter.com
SUMMARY:Exploring the Short Story: Irish & American Literature
DESCRIPTION:Ready for a fascinating journey through literature? Join us for “Exploring the Short Story: Irish & American Literature” starting this March!This isn’t your typical book club—it’s an adult education course designed to get your mind thinking in new and wonderful ways. Led by instructor Kerry Cobb\, we will dive into modern short stories from both Ireland and the US. Each month\, we will read two short stories—one from each country under a specific theme—and then gather to review and discuss them in the following class.When: 2nd Friday of each month at 10:00am\, beginning in March 2026 Where: Mid-Columbia Senior Center in the Deschutes RoomThere is no cost to attend\, and all materials will be provided at no charge. All are welcome and no previous experience is needed—just bring your curiosity\, your sense of adventure\, and maybe a friend or two!Please sign up at the Mid-Columbia Senior Center front desk to reserve your spot. We can’t wait to see you there!
URL:https://gorgenewscenter.com/event/exploring-the-short-story-irish-american-literature/2028-11-10/
LOCATION:Mid-Columbia Senior Center\, 1112 W. 9th Street\, The Dalles\, Oregon\, 97058
ATTACH;FMTTYPE=image/jpeg:https://gorgenewscenter.com/wp-content/uploads/2026/02/626874985_1343619371137495_4274545812152122071_n.jpg
END:VEVENT
BEGIN:VEVENT
DTSTART;TZID=America/Los_Angeles:20281116T173000
DTEND;TZID=America/Los_Angeles:20281116T200000
DTSTAMP:20260421T231611
CREATED:20250123T191401Z
LAST-MODIFIED:20250123T191831Z
UID:10005364-1858008600-1858017600@gorgenewscenter.com
SUMMARY:Meals on Wheels Bingo @ The Senior Center
DESCRIPTION:
URL:https://gorgenewscenter.com/event/bingo-the-center-2/2028-11-16/
LOCATION:Mid-Columbia Senior Center\, 1112 W. 9th Street\, The Dalles\, Oregon\, 97058
ATTACH;FMTTYPE=image/png:https://gorgenewscenter.com/wp-content/uploads/2021/12/Bingo.png
END:VEVENT
BEGIN:VEVENT
DTSTART;TZID=America/Los_Angeles:20281123T173000
DTEND;TZID=America/Los_Angeles:20281123T200000
DTSTAMP:20260421T231611
CREATED:20250123T191401Z
LAST-MODIFIED:20250123T191831Z
UID:10005365-1858613400-1858622400@gorgenewscenter.com
SUMMARY:Meals on Wheels Bingo @ The Senior Center
DESCRIPTION:
URL:https://gorgenewscenter.com/event/bingo-the-center-2/2028-11-23/
LOCATION:Mid-Columbia Senior Center\, 1112 W. 9th Street\, The Dalles\, Oregon\, 97058
ATTACH;FMTTYPE=image/png:https://gorgenewscenter.com/wp-content/uploads/2021/12/Bingo.png
END:VEVENT
BEGIN:VEVENT
DTSTART;TZID=America/Los_Angeles:20281130T173000
DTEND;TZID=America/Los_Angeles:20281130T200000
DTSTAMP:20260421T231611
CREATED:20250123T191401Z
LAST-MODIFIED:20250123T191831Z
UID:10005366-1859218200-1859227200@gorgenewscenter.com
SUMMARY:Meals on Wheels Bingo @ The Senior Center
DESCRIPTION:
URL:https://gorgenewscenter.com/event/bingo-the-center-2/2028-11-30/
LOCATION:Mid-Columbia Senior Center\, 1112 W. 9th Street\, The Dalles\, Oregon\, 97058
ATTACH;FMTTYPE=image/png:https://gorgenewscenter.com/wp-content/uploads/2021/12/Bingo.png
END:VEVENT
BEGIN:VEVENT
DTSTART;TZID=America/Los_Angeles:20281207T173000
DTEND;TZID=America/Los_Angeles:20281207T200000
DTSTAMP:20260421T231611
CREATED:20250123T191401Z
LAST-MODIFIED:20250123T191831Z
UID:10005367-1859823000-1859832000@gorgenewscenter.com
SUMMARY:Meals on Wheels Bingo @ The Senior Center
DESCRIPTION:
URL:https://gorgenewscenter.com/event/bingo-the-center-2/2028-12-07/
LOCATION:Mid-Columbia Senior Center\, 1112 W. 9th Street\, The Dalles\, Oregon\, 97058
ATTACH;FMTTYPE=image/png:https://gorgenewscenter.com/wp-content/uploads/2021/12/Bingo.png
END:VEVENT
BEGIN:VEVENT
DTSTART;TZID=America/Los_Angeles:20281208T100000
DTEND;TZID=America/Los_Angeles:20281208T230000
DTSTAMP:20260421T231611
CREATED:20260216T171245Z
LAST-MODIFIED:20260216T171245Z
UID:10006116-1859882400-1859929200@gorgenewscenter.com
SUMMARY:Exploring the Short Story: Irish & American Literature
DESCRIPTION:Ready for a fascinating journey through literature? Join us for “Exploring the Short Story: Irish & American Literature” starting this March!This isn’t your typical book club—it’s an adult education course designed to get your mind thinking in new and wonderful ways. Led by instructor Kerry Cobb\, we will dive into modern short stories from both Ireland and the US. Each month\, we will read two short stories—one from each country under a specific theme—and then gather to review and discuss them in the following class.When: 2nd Friday of each month at 10:00am\, beginning in March 2026 Where: Mid-Columbia Senior Center in the Deschutes RoomThere is no cost to attend\, and all materials will be provided at no charge. All are welcome and no previous experience is needed—just bring your curiosity\, your sense of adventure\, and maybe a friend or two!Please sign up at the Mid-Columbia Senior Center front desk to reserve your spot. We can’t wait to see you there!
URL:https://gorgenewscenter.com/event/exploring-the-short-story-irish-american-literature/2028-12-08/
LOCATION:Mid-Columbia Senior Center\, 1112 W. 9th Street\, The Dalles\, Oregon\, 97058
ATTACH;FMTTYPE=image/jpeg:https://gorgenewscenter.com/wp-content/uploads/2026/02/626874985_1343619371137495_4274545812152122071_n.jpg
END:VEVENT
BEGIN:VEVENT
DTSTART;TZID=America/Los_Angeles:20281214T173000
DTEND;TZID=America/Los_Angeles:20281214T200000
DTSTAMP:20260421T231611
CREATED:20250123T191401Z
LAST-MODIFIED:20250123T191831Z
UID:10005368-1860427800-1860436800@gorgenewscenter.com
SUMMARY:Meals on Wheels Bingo @ The Senior Center
DESCRIPTION:
URL:https://gorgenewscenter.com/event/bingo-the-center-2/2028-12-14/
LOCATION:Mid-Columbia Senior Center\, 1112 W. 9th Street\, The Dalles\, Oregon\, 97058
ATTACH;FMTTYPE=image/png:https://gorgenewscenter.com/wp-content/uploads/2021/12/Bingo.png
END:VEVENT
BEGIN:VEVENT
DTSTART;TZID=America/Los_Angeles:20281221T173000
DTEND;TZID=America/Los_Angeles:20281221T200000
DTSTAMP:20260421T231611
CREATED:20250123T191401Z
LAST-MODIFIED:20250123T191831Z
UID:10005369-1861032600-1861041600@gorgenewscenter.com
SUMMARY:Meals on Wheels Bingo @ The Senior Center
DESCRIPTION:
URL:https://gorgenewscenter.com/event/bingo-the-center-2/2028-12-21/
LOCATION:Mid-Columbia Senior Center\, 1112 W. 9th Street\, The Dalles\, Oregon\, 97058
ATTACH;FMTTYPE=image/png:https://gorgenewscenter.com/wp-content/uploads/2021/12/Bingo.png
END:VEVENT
BEGIN:VEVENT
DTSTART;TZID=America/Los_Angeles:20281228T173000
DTEND;TZID=America/Los_Angeles:20281228T200000
DTSTAMP:20260421T231611
CREATED:20250123T191401Z
LAST-MODIFIED:20250123T191831Z
UID:10005370-1861637400-1861646400@gorgenewscenter.com
SUMMARY:Meals on Wheels Bingo @ The Senior Center
DESCRIPTION:
URL:https://gorgenewscenter.com/event/bingo-the-center-2/2028-12-28/
LOCATION:Mid-Columbia Senior Center\, 1112 W. 9th Street\, The Dalles\, Oregon\, 97058
ATTACH;FMTTYPE=image/png:https://gorgenewscenter.com/wp-content/uploads/2021/12/Bingo.png
END:VEVENT
BEGIN:VEVENT
DTSTART;TZID=America/Los_Angeles:20290104T173000
DTEND;TZID=America/Los_Angeles:20290104T200000
DTSTAMP:20260421T231611
CREATED:20250123T191401Z
LAST-MODIFIED:20250123T191831Z
UID:10005371-1862242200-1862251200@gorgenewscenter.com
SUMMARY:Meals on Wheels Bingo @ The Senior Center
DESCRIPTION:
URL:https://gorgenewscenter.com/event/bingo-the-center-2/2029-01-04/
LOCATION:Mid-Columbia Senior Center\, 1112 W. 9th Street\, The Dalles\, Oregon\, 97058
ATTACH;FMTTYPE=image/png:https://gorgenewscenter.com/wp-content/uploads/2021/12/Bingo.png
END:VEVENT
END:VCALENDAR