BEGIN:VCALENDAR
VERSION:2.0
PRODID:-// - ECPv6.15.13//NONSGML v1.0//EN
CALSCALE:GREGORIAN
METHOD:PUBLISH
X-ORIGINAL-URL:https://gorgenewscenter.com
X-WR-CALDESC:Events for 
REFRESH-INTERVAL;VALUE=DURATION:PT1H
X-Robots-Tag:noindex
X-PUBLISHED-TTL:PT1H
BEGIN:VTIMEZONE
TZID:America/Los_Angeles
BEGIN:DAYLIGHT
TZOFFSETFROM:-0800
TZOFFSETTO:-0700
TZNAME:PDT
DTSTART:20250309T100000
END:DAYLIGHT
BEGIN:STANDARD
TZOFFSETFROM:-0700
TZOFFSETTO:-0800
TZNAME:PST
DTSTART:20251102T090000
END:STANDARD
BEGIN:DAYLIGHT
TZOFFSETFROM:-0800
TZOFFSETTO:-0700
TZNAME:PDT
DTSTART:20260308T100000
END:DAYLIGHT
BEGIN:STANDARD
TZOFFSETFROM:-0700
TZOFFSETTO:-0800
TZNAME:PST
DTSTART:20261101T090000
END:STANDARD
BEGIN:DAYLIGHT
TZOFFSETFROM:-0800
TZOFFSETTO:-0700
TZNAME:PDT
DTSTART:20270314T100000
END:DAYLIGHT
BEGIN:STANDARD
TZOFFSETFROM:-0700
TZOFFSETTO:-0800
TZNAME:PST
DTSTART:20271107T090000
END:STANDARD
END:VTIMEZONE
BEGIN:VEVENT
DTSTART;TZID=America/Los_Angeles:20260412T080000
DTEND;TZID=America/Los_Angeles:20260412T160000
DTSTAMP:20260421T100836
CREATED:20260410T154955Z
LAST-MODIFIED:20260410T154955Z
UID:10006211-1775980800-1776009600@gorgenewscenter.com
SUMMARY:Celilo Bowmen Traditional Shoot
DESCRIPTION:
URL:https://gorgenewscenter.com/event/celilo-bowmen-traditional-shoot-2/2026-04-12/
LOCATION:Celilo Bowmen Archery Range\, 5321 Hawley Steele Rd\, The Dalles\, OR\, 97058\, United States
ATTACH;FMTTYPE=image/jpeg:https://gorgenewscenter.com/wp-content/uploads/2026/04/605299209_4172339049654643_5985291774830068192_n.jpg
END:VEVENT
BEGIN:VEVENT
DTSTART;TZID=America/Los_Angeles:20260412T080000
DTEND;TZID=America/Los_Angeles:20260412T160000
DTSTAMP:20260421T100836
CREATED:20260116T170203Z
LAST-MODIFIED:20260116T170203Z
UID:10005996-1775980800-1776009600@gorgenewscenter.com
SUMMARY:Celilo Bowmen Traditional Shoot
DESCRIPTION:
URL:https://gorgenewscenter.com/event/celilo-bowmen-traditional-shoot/2026-04-12/
LOCATION:Celilo Bowmen Archery Range\, 5321 Hawley Steele Rd\, The Dalles\, OR\, 97058\, United States
ATTACH;FMTTYPE=image/jpeg:https://gorgenewscenter.com/wp-content/uploads/2026/01/605299209_4172339049654643_5985291774830068192_n.jpg
END:VEVENT
BEGIN:VEVENT
DTSTART;TZID=America/Los_Angeles:20260411T080000
DTEND;TZID=America/Los_Angeles:20260411T160000
DTSTAMP:20260421T100836
CREATED:20260410T154955Z
LAST-MODIFIED:20260410T154955Z
UID:10006210-1775894400-1775923200@gorgenewscenter.com
SUMMARY:Celilo Bowmen Traditional Shoot
DESCRIPTION:
URL:https://gorgenewscenter.com/event/celilo-bowmen-traditional-shoot-2/2026-04-11/
LOCATION:Celilo Bowmen Archery Range\, 5321 Hawley Steele Rd\, The Dalles\, OR\, 97058\, United States
ATTACH;FMTTYPE=image/jpeg:https://gorgenewscenter.com/wp-content/uploads/2026/04/605299209_4172339049654643_5985291774830068192_n.jpg
END:VEVENT
BEGIN:VEVENT
DTSTART;TZID=America/Los_Angeles:20260411T080000
DTEND;TZID=America/Los_Angeles:20260411T160000
DTSTAMP:20260421T100836
CREATED:20260116T170203Z
LAST-MODIFIED:20260116T170203Z
UID:10005995-1775894400-1775923200@gorgenewscenter.com
SUMMARY:Celilo Bowmen Traditional Shoot
DESCRIPTION:
URL:https://gorgenewscenter.com/event/celilo-bowmen-traditional-shoot/2026-04-11/
LOCATION:Celilo Bowmen Archery Range\, 5321 Hawley Steele Rd\, The Dalles\, OR\, 97058\, United States
ATTACH;FMTTYPE=image/jpeg:https://gorgenewscenter.com/wp-content/uploads/2026/01/605299209_4172339049654643_5985291774830068192_n.jpg
END:VEVENT
BEGIN:VEVENT
DTSTART;TZID=America/Los_Angeles:20260322T080000
DTEND;TZID=America/Los_Angeles:20260322T160000
DTSTAMP:20260421T100836
CREATED:20260318T195143Z
LAST-MODIFIED:20260318T195143Z
UID:10006194-1774166400-1774195200@gorgenewscenter.com
SUMMARY:Celilo Bowmen Archers: Archers in Arms 3-D Shoot
DESCRIPTION:
URL:https://gorgenewscenter.com/event/celilo-bowmen-archers-archers-in-arms-3-d-shoot/2026-03-22/
LOCATION:Celilo Bowmen Archery Range\, 5321 Hawley Steele Rd\, The Dalles\, OR\, 97058\, United States
ATTACH;FMTTYPE=image/jpeg:https://gorgenewscenter.com/wp-content/uploads/2026/03/585005528_4134909056730976_4872056176991133017_n-1.jpg
END:VEVENT
BEGIN:VEVENT
DTSTART;TZID=America/Los_Angeles:20260321T080000
DTEND;TZID=America/Los_Angeles:20260321T160000
DTSTAMP:20260421T100836
CREATED:20260318T195143Z
LAST-MODIFIED:20260318T195143Z
UID:10006193-1774080000-1774108800@gorgenewscenter.com
SUMMARY:Celilo Bowmen Archers: Archers in Arms 3-D Shoot
DESCRIPTION:
URL:https://gorgenewscenter.com/event/celilo-bowmen-archers-archers-in-arms-3-d-shoot/2026-03-21/
LOCATION:Celilo Bowmen Archery Range\, 5321 Hawley Steele Rd\, The Dalles\, OR\, 97058\, United States
ATTACH;FMTTYPE=image/jpeg:https://gorgenewscenter.com/wp-content/uploads/2026/03/585005528_4134909056730976_4872056176991133017_n-1.jpg
END:VEVENT
BEGIN:VEVENT
DTSTART;TZID=America/Los_Angeles:20260309T080000
DTEND;TZID=America/Los_Angeles:20260309T170000
DTSTAMP:20260421T100836
CREATED:20260309T213915Z
LAST-MODIFIED:20260309T213915Z
UID:10006183-1773043200-1773075600@gorgenewscenter.com
SUMMARY:Archers in Arms 3-D Shoot
DESCRIPTION:
URL:https://gorgenewscenter.com/event/archers-in-arms-3-d-shoot/
LOCATION:Celilo Bowmen Archery Range\, 5321 Hawley Steele Rd\, The Dalles\, OR\, 97058\, United States
ATTACH;FMTTYPE=image/jpeg:https://gorgenewscenter.com/wp-content/uploads/2026/03/585005528_4134909056730976_4872056176991133017_n.jpg
END:VEVENT
BEGIN:VEVENT
DTSTART;TZID=America/Los_Angeles:20260222T080000
DTEND;TZID=America/Los_Angeles:20260222T160000
DTSTAMP:20260421T100836
CREATED:20260216T183207Z
LAST-MODIFIED:20260216T183207Z
UID:10006148-1771747200-1771776000@gorgenewscenter.com
SUMMARY:Celilo Bowmen Archery Club: Cupids Revenge 3-D Shoot
DESCRIPTION:
URL:https://gorgenewscenter.com/event/celilo-bowmen-archery-club-cupids-revenge-3-d-shoot/2026-02-22/
LOCATION:Celilo Bowmen Archery Range\, 5321 Hawley Steele Rd\, The Dalles\, OR\, 97058\, United States
END:VEVENT
BEGIN:VEVENT
DTSTART;TZID=America/Los_Angeles:20260221T080000
DTEND;TZID=America/Los_Angeles:20260221T160000
DTSTAMP:20260421T100836
CREATED:20260216T183207Z
LAST-MODIFIED:20260216T183207Z
UID:10006147-1771660800-1771689600@gorgenewscenter.com
SUMMARY:Celilo Bowmen Archery Club: Cupids Revenge 3-D Shoot
DESCRIPTION:
URL:https://gorgenewscenter.com/event/celilo-bowmen-archery-club-cupids-revenge-3-d-shoot/2026-02-21/
LOCATION:Celilo Bowmen Archery Range\, 5321 Hawley Steele Rd\, The Dalles\, OR\, 97058\, United States
END:VEVENT
BEGIN:VEVENT
DTSTART;TZID=America/Los_Angeles:20260118T080000
DTEND;TZID=America/Los_Angeles:20260118T160000
DTSTAMP:20260421T100836
CREATED:20260116T170538Z
LAST-MODIFIED:20260116T170538Z
UID:10005998-1768723200-1768752000@gorgenewscenter.com
SUMMARY:The Bowman Plunge 3-D Shoot
DESCRIPTION:
URL:https://gorgenewscenter.com/event/the-bowman-plunge-3-d-shoot/2026-01-18/
LOCATION:Celilo Bowmen Archery Range\, 5321 Hawley Steele Rd\, The Dalles\, OR\, 97058\, United States
END:VEVENT
BEGIN:VEVENT
DTSTART;TZID=America/Los_Angeles:20260117T080000
DTEND;TZID=America/Los_Angeles:20260117T160000
DTSTAMP:20260421T100836
CREATED:20260116T170538Z
LAST-MODIFIED:20260116T170538Z
UID:10005997-1768636800-1768665600@gorgenewscenter.com
SUMMARY:The Bowman Plunge 3-D Shoot
DESCRIPTION:
URL:https://gorgenewscenter.com/event/the-bowman-plunge-3-d-shoot/2026-01-17/
LOCATION:Celilo Bowmen Archery Range\, 5321 Hawley Steele Rd\, The Dalles\, OR\, 97058\, United States
END:VEVENT
END:VCALENDAR