BEGIN:VCALENDAR
VERSION:2.0
PRODID:-// - ECPv6.15.13//NONSGML v1.0//EN
CALSCALE:GREGORIAN
METHOD:PUBLISH
X-ORIGINAL-URL:https://gorgenewscenter.com
X-WR-CALDESC:Events for 
REFRESH-INTERVAL;VALUE=DURATION:PT1H
X-Robots-Tag:noindex
X-PUBLISHED-TTL:PT1H
BEGIN:VTIMEZONE
TZID:America/Los_Angeles
BEGIN:DAYLIGHT
TZOFFSETFROM:-0800
TZOFFSETTO:-0700
TZNAME:PDT
DTSTART:20250309T100000
END:DAYLIGHT
BEGIN:STANDARD
TZOFFSETFROM:-0700
TZOFFSETTO:-0800
TZNAME:PST
DTSTART:20251102T090000
END:STANDARD
BEGIN:DAYLIGHT
TZOFFSETFROM:-0800
TZOFFSETTO:-0700
TZNAME:PDT
DTSTART:20260308T100000
END:DAYLIGHT
BEGIN:STANDARD
TZOFFSETFROM:-0700
TZOFFSETTO:-0800
TZNAME:PST
DTSTART:20261101T090000
END:STANDARD
BEGIN:DAYLIGHT
TZOFFSETFROM:-0800
TZOFFSETTO:-0700
TZNAME:PDT
DTSTART:20270314T100000
END:DAYLIGHT
BEGIN:STANDARD
TZOFFSETFROM:-0700
TZOFFSETTO:-0800
TZNAME:PST
DTSTART:20271107T090000
END:STANDARD
END:VTIMEZONE
BEGIN:VEVENT
DTSTART;TZID=America/Los_Angeles:20260427T180000
DTEND;TZID=America/Los_Angeles:20260427T190000
DTSTAMP:20260421T070253
CREATED:20260228T192749Z
LAST-MODIFIED:20260228T192749Z
UID:10006163-1777312800-1777316400@gorgenewscenter.com
SUMMARY:Four Cord Fun: Ukulele Basics
DESCRIPTION:Ready to Make Music? Join Our Beginner Ukulele Class! \n\n\nHave you ever wanted to play the ukulele? Now’s your chance! Our **Beginner Ukulele Class** starts Monday\, March 9th and is perfect for brand-new players. No experience needed — just bring your enthusiasm and get ready for some 4-chord fun!\n\n\n Learn easy chords\n Play real songs\n Build confidence in a fun\, supportive group\n\n\n Class size is limited so don’t wait!\n Register today: https://www.wascocountylibrary.com/…/4-chord-fun…\n\n\nLet’s make music together!
URL:https://gorgenewscenter.com/event/four-cord-fun-ukulele-basics/2026-04-27/
LOCATION:The Dalles Wasco County Library\, 722 Court St\, The Dalles\, OR\, 97058\, United States
ATTACH;FMTTYPE=image/jpeg:https://gorgenewscenter.com/wp-content/uploads/2026/02/644358912_1384602927044104_4290344910022967665_n.jpg
END:VEVENT
END:VCALENDAR