BEGIN:VCALENDAR
VERSION:2.0
PRODID:-// - ECPv6.15.20//NONSGML v1.0//EN
CALSCALE:GREGORIAN
METHOD:PUBLISH
X-ORIGINAL-URL:https://gorgenewscenter.com
X-WR-CALDESC:Events for 
REFRESH-INTERVAL;VALUE=DURATION:PT1H
X-Robots-Tag:noindex
X-PUBLISHED-TTL:PT1H
BEGIN:VTIMEZONE
TZID:America/Los_Angeles
BEGIN:DAYLIGHT
TZOFFSETFROM:-0800
TZOFFSETTO:-0700
TZNAME:PDT
DTSTART:20280312T100000
END:DAYLIGHT
BEGIN:STANDARD
TZOFFSETFROM:-0700
TZOFFSETTO:-0800
TZNAME:PST
DTSTART:20281105T090000
END:STANDARD
BEGIN:DAYLIGHT
TZOFFSETFROM:-0800
TZOFFSETTO:-0700
TZNAME:PDT
DTSTART:20290311T100000
END:DAYLIGHT
BEGIN:STANDARD
TZOFFSETFROM:-0700
TZOFFSETTO:-0800
TZNAME:PST
DTSTART:20291104T090000
END:STANDARD
BEGIN:DAYLIGHT
TZOFFSETFROM:-0800
TZOFFSETTO:-0700
TZNAME:PDT
DTSTART:20300310T100000
END:DAYLIGHT
BEGIN:STANDARD
TZOFFSETFROM:-0700
TZOFFSETTO:-0800
TZNAME:PST
DTSTART:20301103T090000
END:STANDARD
END:VTIMEZONE
BEGIN:VEVENT
DTSTART;TZID=America/Los_Angeles:20290203T070000
DTEND;TZID=America/Los_Angeles:20290203T100000
DTSTAMP:20260423T042239
CREATED:20240104T155408Z
LAST-MODIFIED:20250102T183946Z
UID:10004599-1864796400-1864807200@gorgenewscenter.com
SUMMARY:Lyle Lions First Saturday Pancake Breakfast
DESCRIPTION:Lyle Lions Club Monthly Pancake Breakfast\,  first Saturdays from 7-10 am.  Held at the Lyle Lions Community Center in Lyle at 5th and Hwy 14. \nAdults $10\, 6-12 $5\, under 6 free.  Omelettes\, ham and eggs cooked to order\, endless pancakes. \nHelp support many things in our community.
URL:https://gorgenewscenter.com/event/lyle-lions-first-saturday-pancake-breakfast/2029-02-03/
LOCATION:Lyle Lions Community Center\, 5th and State Street (Hwy 14)\, Lyle\, Washington
ATTACH;FMTTYPE=image/jpeg:https://gorgenewscenter.com/wp-content/uploads/2021/12/Lyle-Lions.jpg
END:VEVENT
END:VCALENDAR