BEGIN:VCALENDAR
VERSION:2.0
PRODID:-// - ECPv6.15.13//NONSGML v1.0//EN
CALSCALE:GREGORIAN
METHOD:PUBLISH
X-ORIGINAL-URL:https://gorgenewscenter.com
X-WR-CALDESC:Events for 
REFRESH-INTERVAL;VALUE=DURATION:PT1H
X-Robots-Tag:noindex
X-PUBLISHED-TTL:PT1H
BEGIN:VTIMEZONE
TZID:America/Los_Angeles
BEGIN:DAYLIGHT
TZOFFSETFROM:-0800
TZOFFSETTO:-0700
TZNAME:PDT
DTSTART:20250309T100000
END:DAYLIGHT
BEGIN:STANDARD
TZOFFSETFROM:-0700
TZOFFSETTO:-0800
TZNAME:PST
DTSTART:20251102T090000
END:STANDARD
BEGIN:DAYLIGHT
TZOFFSETFROM:-0800
TZOFFSETTO:-0700
TZNAME:PDT
DTSTART:20260308T100000
END:DAYLIGHT
BEGIN:STANDARD
TZOFFSETFROM:-0700
TZOFFSETTO:-0800
TZNAME:PST
DTSTART:20261101T090000
END:STANDARD
BEGIN:DAYLIGHT
TZOFFSETFROM:-0800
TZOFFSETTO:-0700
TZNAME:PDT
DTSTART:20270314T100000
END:DAYLIGHT
BEGIN:STANDARD
TZOFFSETFROM:-0700
TZOFFSETTO:-0800
TZNAME:PST
DTSTART:20271107T090000
END:STANDARD
END:VTIMEZONE
BEGIN:VEVENT
DTSTART;TZID=America/Los_Angeles:20261205T070000
DTEND;TZID=America/Los_Angeles:20261205T100000
DTSTAMP:20260421T182242
CREATED:20240104T155408Z
LAST-MODIFIED:20250102T183946Z
UID:10002553-1796454000-1796464800@gorgenewscenter.com
SUMMARY:Lyle Lions First Saturday Pancake Breakfast
DESCRIPTION:Lyle Lions Club Monthly Pancake Breakfast\,  first Saturdays from 7-10 am.  Held at the Lyle Lions Community Center in Lyle at 5th and Hwy 14. \nAdults $10\, 6-12 $5\, under 6 free.  Omelettes\, ham and eggs cooked to order\, endless pancakes. \nHelp support many things in our community.
URL:https://gorgenewscenter.com/event/lyle-lions-first-saturday-pancake-breakfast/2026-12-05/
LOCATION:Lyle Lions Community Center\, 5th and State Street (Hwy 14)\, Lyle\, Washington
ATTACH;FMTTYPE=image/jpeg:https://gorgenewscenter.com/wp-content/uploads/2021/12/Lyle-Lions.jpg
END:VEVENT
BEGIN:VEVENT
DTSTART;TZID=America/Los_Angeles:20261205T173000
DTEND;TZID=America/Los_Angeles:20261205T200000
DTSTAMP:20260421T182242
CREATED:20240131T232402Z
LAST-MODIFIED:20250123T191647Z
UID:10005052-1796491800-1796500800@gorgenewscenter.com
SUMMARY:Bingo @ The Center
DESCRIPTION:
URL:https://gorgenewscenter.com/event/bingo-the-center/2026-12-05/
LOCATION:Oregon
ATTACH;FMTTYPE=image/png:https://gorgenewscenter.com/wp-content/uploads/2021/12/Bingo.png
END:VEVENT
END:VCALENDAR