BEGIN:VCALENDAR
VERSION:2.0
PRODID:-// - ECPv6.15.13//NONSGML v1.0//EN
CALSCALE:GREGORIAN
METHOD:PUBLISH
X-ORIGINAL-URL:https://gorgenewscenter.com
X-WR-CALDESC:Events for 
REFRESH-INTERVAL;VALUE=DURATION:PT1H
X-Robots-Tag:noindex
X-PUBLISHED-TTL:PT1H
BEGIN:VTIMEZONE
TZID:America/Los_Angeles
BEGIN:DAYLIGHT
TZOFFSETFROM:-0800
TZOFFSETTO:-0700
TZNAME:PDT
DTSTART:20250309T100000
END:DAYLIGHT
BEGIN:STANDARD
TZOFFSETFROM:-0700
TZOFFSETTO:-0800
TZNAME:PST
DTSTART:20251102T090000
END:STANDARD
BEGIN:DAYLIGHT
TZOFFSETFROM:-0800
TZOFFSETTO:-0700
TZNAME:PDT
DTSTART:20260308T100000
END:DAYLIGHT
BEGIN:STANDARD
TZOFFSETFROM:-0700
TZOFFSETTO:-0800
TZNAME:PST
DTSTART:20261101T090000
END:STANDARD
BEGIN:DAYLIGHT
TZOFFSETFROM:-0800
TZOFFSETTO:-0700
TZNAME:PDT
DTSTART:20270314T100000
END:DAYLIGHT
BEGIN:STANDARD
TZOFFSETFROM:-0700
TZOFFSETTO:-0800
TZNAME:PST
DTSTART:20271107T090000
END:STANDARD
END:VTIMEZONE
BEGIN:VEVENT
DTSTART;TZID=America/Los_Angeles:20260902T130000
DTEND;TZID=America/Los_Angeles:20260902T150000
DTSTAMP:20260421T130727
CREATED:20240205T212337Z
LAST-MODIFIED:20240205T212654Z
UID:10003662-1788354000-1788361200@gorgenewscenter.com
SUMMARY:Pinochle at The Centerville Grange
DESCRIPTION:PINOCHLE \nFIRST WEDNESDAY AND THIRD WEDNESDAY OF EVERY MONTH \n1PM 2288 CENTERVILLE HWY \nCome join us for an afternoon of cards and laughs with snacks served. We have coffee\, water or juice as well. If you want to learn\, we will help with that too!!
URL:https://gorgenewscenter.com/event/pinochle-at-the-centerville-grange/2026-09-02/
LOCATION:Centerville Grange #81\, 2288 Centerville Highway\, Centerville\, Washington\, 98613
ATTACH;FMTTYPE=image/jpeg:https://gorgenewscenter.com/wp-content/uploads/2023/04/centerville-grange.jpg
END:VEVENT
END:VCALENDAR