BEGIN:VCALENDAR
VERSION:2.0
PRODID:-// - ECPv6.15.13//NONSGML v1.0//EN
CALSCALE:GREGORIAN
METHOD:PUBLISH
X-ORIGINAL-URL:https://gorgenewscenter.com
X-WR-CALDESC:Events for 
REFRESH-INTERVAL;VALUE=DURATION:PT1H
X-Robots-Tag:noindex
X-PUBLISHED-TTL:PT1H
BEGIN:VTIMEZONE
TZID:America/Los_Angeles
BEGIN:DAYLIGHT
TZOFFSETFROM:-0800
TZOFFSETTO:-0700
TZNAME:PDT
DTSTART:20250309T100000
END:DAYLIGHT
BEGIN:STANDARD
TZOFFSETFROM:-0700
TZOFFSETTO:-0800
TZNAME:PST
DTSTART:20251102T090000
END:STANDARD
BEGIN:DAYLIGHT
TZOFFSETFROM:-0800
TZOFFSETTO:-0700
TZNAME:PDT
DTSTART:20260308T100000
END:DAYLIGHT
BEGIN:STANDARD
TZOFFSETFROM:-0700
TZOFFSETTO:-0800
TZNAME:PST
DTSTART:20261101T090000
END:STANDARD
BEGIN:DAYLIGHT
TZOFFSETFROM:-0800
TZOFFSETTO:-0700
TZNAME:PDT
DTSTART:20270314T100000
END:DAYLIGHT
BEGIN:STANDARD
TZOFFSETFROM:-0700
TZOFFSETTO:-0800
TZNAME:PST
DTSTART:20271107T090000
END:STANDARD
END:VTIMEZONE
BEGIN:VEVENT
DTSTART;TZID=America/Los_Angeles:20260712T180000
DTEND;TZID=America/Los_Angeles:20260712T200000
DTSTAMP:20260421T114017
CREATED:20260122T162805Z
LAST-MODIFIED:20260122T162805Z
UID:10006031-1783879200-1783886400@gorgenewscenter.com
SUMMARY:Adult Rec Volleyball
DESCRIPTION:Calling all volleyball enthusaists. Join us on Sundays in Centerville for some fun on the court! General skill level is intermediate.
URL:https://gorgenewscenter.com/event/adult-rec-volleyball/2026-07-12/
LOCATION:Oregon
ATTACH;FMTTYPE=image/jpeg:https://gorgenewscenter.com/wp-content/uploads/2026/01/619383174_1235240985280732_8451689720232921899_n.jpg
END:VEVENT
END:VCALENDAR