BEGIN:VCALENDAR
VERSION:2.0
PRODID:-// - ECPv6.15.13//NONSGML v1.0//EN
CALSCALE:GREGORIAN
METHOD:PUBLISH
X-ORIGINAL-URL:https://gorgenewscenter.com
X-WR-CALDESC:Events for 
REFRESH-INTERVAL;VALUE=DURATION:PT1H
X-Robots-Tag:noindex
X-PUBLISHED-TTL:PT1H
BEGIN:VTIMEZONE
TZID:America/Los_Angeles
BEGIN:DAYLIGHT
TZOFFSETFROM:-0800
TZOFFSETTO:-0700
TZNAME:PDT
DTSTART:20250309T100000
END:DAYLIGHT
BEGIN:STANDARD
TZOFFSETFROM:-0700
TZOFFSETTO:-0800
TZNAME:PST
DTSTART:20251102T090000
END:STANDARD
BEGIN:DAYLIGHT
TZOFFSETFROM:-0800
TZOFFSETTO:-0700
TZNAME:PDT
DTSTART:20260308T100000
END:DAYLIGHT
BEGIN:STANDARD
TZOFFSETFROM:-0700
TZOFFSETTO:-0800
TZNAME:PST
DTSTART:20261101T090000
END:STANDARD
BEGIN:DAYLIGHT
TZOFFSETFROM:-0800
TZOFFSETTO:-0700
TZNAME:PDT
DTSTART:20270314T100000
END:DAYLIGHT
BEGIN:STANDARD
TZOFFSETFROM:-0700
TZOFFSETTO:-0800
TZNAME:PST
DTSTART:20271107T090000
END:STANDARD
END:VTIMEZONE
BEGIN:VEVENT
DTSTART;TZID=America/Los_Angeles:20260131T090000
DTEND;TZID=America/Los_Angeles:20260131T120000
DTSTAMP:20260421T100946
CREATED:20260116T172443Z
LAST-MODIFIED:20260116T172443Z
UID:10006003-1769850000-1769860800@gorgenewscenter.com
SUMMARY:Youth Beginner Sewing Workshop
DESCRIPTION:
URL:https://gorgenewscenter.com/event/youth-beginner-sewing-workshop/
LOCATION:Goldedale Grange\, 228 E Darland Dr\, Goldendale\, Washington\, 98620
END:VEVENT
BEGIN:VEVENT
DTSTART;TZID=America/Los_Angeles:20260131T150000
DTEND;TZID=America/Los_Angeles:20260131T190000
DTSTAMP:20260421T100946
CREATED:20260116T172215Z
LAST-MODIFIED:20260116T172215Z
UID:10006002-1769871600-1769886000@gorgenewscenter.com
SUMMARY:MCGG & Sherman County Athletic Foundation: Crab & Oyster Feed
DESCRIPTION:
URL:https://gorgenewscenter.com/event/mcgg-sherman-county-athletic-foundation-crab-oyster-feed/
LOCATION:Morrow County Grain Growers\, 71025 Old Highway 97\, Wasco\, OR\, 97065
END:VEVENT
BEGIN:VEVENT
DTSTART;TZID=America/Los_Angeles:20260131T173000
DTEND;TZID=America/Los_Angeles:20260131T200000
DTSTAMP:20260421T100946
CREATED:20240131T232402Z
LAST-MODIFIED:20250123T191647Z
UID:10005008-1769880600-1769889600@gorgenewscenter.com
SUMMARY:Bingo @ The Center
DESCRIPTION:
URL:https://gorgenewscenter.com/event/bingo-the-center/2026-01-31/
LOCATION:Oregon
ATTACH;FMTTYPE=image/png:https://gorgenewscenter.com/wp-content/uploads/2021/12/Bingo.png
END:VEVENT
END:VCALENDAR