BEGIN:VCALENDAR
VERSION:2.0
PRODID:-// - ECPv6.15.13//NONSGML v1.0//EN
CALSCALE:GREGORIAN
METHOD:PUBLISH
X-ORIGINAL-URL:https://gorgenewscenter.com
X-WR-CALDESC:Events for 
REFRESH-INTERVAL;VALUE=DURATION:PT1H
X-Robots-Tag:noindex
X-PUBLISHED-TTL:PT1H
BEGIN:VTIMEZONE
TZID:America/Los_Angeles
BEGIN:DAYLIGHT
TZOFFSETFROM:-0800
TZOFFSETTO:-0700
TZNAME:PDT
DTSTART:20240310T100000
END:DAYLIGHT
BEGIN:STANDARD
TZOFFSETFROM:-0700
TZOFFSETTO:-0800
TZNAME:PST
DTSTART:20241103T090000
END:STANDARD
BEGIN:DAYLIGHT
TZOFFSETFROM:-0800
TZOFFSETTO:-0700
TZNAME:PDT
DTSTART:20250309T100000
END:DAYLIGHT
BEGIN:STANDARD
TZOFFSETFROM:-0700
TZOFFSETTO:-0800
TZNAME:PST
DTSTART:20251102T090000
END:STANDARD
BEGIN:DAYLIGHT
TZOFFSETFROM:-0800
TZOFFSETTO:-0700
TZNAME:PDT
DTSTART:20260308T100000
END:DAYLIGHT
BEGIN:STANDARD
TZOFFSETFROM:-0700
TZOFFSETTO:-0800
TZNAME:PST
DTSTART:20261101T090000
END:STANDARD
END:VTIMEZONE
BEGIN:VEVENT
DTSTART;TZID=America/Los_Angeles:20251205T120000
DTEND;TZID=America/Los_Angeles:20251205T180000
DTSTAMP:20260421T130717
CREATED:20251205T005519Z
LAST-MODIFIED:20251205T011426Z
UID:10005952-1764936000-1764957600@gorgenewscenter.com
SUMMARY:Dallesport Christmas Bazaar
DESCRIPTION:
URL:https://gorgenewscenter.com/event/dallesport-christmas-bazaar/2025-12-05/
LOCATION:Dallesport Community Center\, 136 6th Ave\, Dallesport\, Washington\, 98617
END:VEVENT
BEGIN:VEVENT
DTSTART;TZID=America/Los_Angeles:20251205T170000
DTEND;TZID=America/Los_Angeles:20251205T200000
DTSTAMP:20260421T130717
CREATED:20251205T010422Z
LAST-MODIFIED:20251205T010422Z
UID:10005958-1764954000-1764964800@gorgenewscenter.com
SUMMARY:First Friday in The Dalles
DESCRIPTION:
URL:https://gorgenewscenter.com/event/first-friday-in-the-dalles/
LOCATION:Oregon
END:VEVENT
BEGIN:VEVENT
DTSTART;TZID=America/Los_Angeles:20251205T180000
DTEND;TZID=America/Los_Angeles:20251205T203000
DTSTAMP:20260421T130717
CREATED:20251205T174109Z
LAST-MODIFIED:20251205T174109Z
UID:10005965-1764957600-1764966600@gorgenewscenter.com
SUMMARY:Country & Western Dance at the Center
DESCRIPTION:
URL:https://gorgenewscenter.com/event/country-western-dance-at-the-center/
LOCATION:Mid-Columbia Senior Center\, 1112 W. 9th Street\, The Dalles\, Oregon\, 97058
END:VEVENT
BEGIN:VEVENT
DTSTART;TZID=America/Los_Angeles:20251205T180000
DTEND;TZID=America/Los_Angeles:20251205T210000
DTSTAMP:20260421T130717
CREATED:20251205T010022Z
LAST-MODIFIED:20251205T010022Z
UID:10005957-1764957600-1764968400@gorgenewscenter.com
SUMMARY:Festival of Trees
DESCRIPTION:
URL:https://gorgenewscenter.com/event/festival-of-trees/
LOCATION:The Dalles Civic Auditorium\, 323 E 4th St\, The Dalles\, Oregon\, 97058
END:VEVENT
END:VCALENDAR